BEGIN:VCALENDAR
VERSION:2.0
PRODID:-//Refugium Aschaffenburg - ECPv6.15.18//NONSGML v1.0//EN
CALSCALE:GREGORIAN
METHOD:PUBLISH
X-WR-CALNAME:Refugium Aschaffenburg
X-ORIGINAL-URL:https://www.refugium-aschaffenburg.de
X-WR-CALDESC:Veranstaltungen für Refugium Aschaffenburg
REFRESH-INTERVAL;VALUE=DURATION:PT1H
X-Robots-Tag:noindex
X-PUBLISHED-TTL:PT1H
BEGIN:VTIMEZONE
TZID:Europe/Vienna
BEGIN:DAYLIGHT
TZOFFSETFROM:+0100
TZOFFSETTO:+0200
TZNAME:CEST
DTSTART:20250330T010000
END:DAYLIGHT
BEGIN:STANDARD
TZOFFSETFROM:+0200
TZOFFSETTO:+0100
TZNAME:CET
DTSTART:20251026T010000
END:STANDARD
BEGIN:DAYLIGHT
TZOFFSETFROM:+0100
TZOFFSETTO:+0200
TZNAME:CEST
DTSTART:20260329T010000
END:DAYLIGHT
BEGIN:STANDARD
TZOFFSETFROM:+0200
TZOFFSETTO:+0100
TZNAME:CET
DTSTART:20261025T010000
END:STANDARD
BEGIN:DAYLIGHT
TZOFFSETFROM:+0100
TZOFFSETTO:+0200
TZNAME:CEST
DTSTART:20270328T010000
END:DAYLIGHT
BEGIN:STANDARD
TZOFFSETFROM:+0200
TZOFFSETTO:+0100
TZNAME:CET
DTSTART:20271031T010000
END:STANDARD
END:VTIMEZONE
BEGIN:VEVENT
DTSTART;VALUE=DATE:20261002
DTEND;VALUE=DATE:20261005
DTSTAMP:20260419T151729
CREATED:20260206T082047Z
LAST-MODIFIED:20260316T133649Z
UID:10000003-1790899200-1791158399@www.refugium-aschaffenburg.de
SUMMARY:Kinky Flow – Massageritual
DESCRIPTION:Du bist hier richtig\, wenn:… Du Menschen bewusst und auch in der Seele berühren möchtest. \n… Du neugierig bist\, wie man die Phantasie / das Kopfkino in eine Session mit einbaut \n… Du Neues lernen möchtest. \nFür wen ist der Workshop?Einzelpersonen oder Partner-Konstellation (kein Paar-Workshop) \nKeine Vorerfahrung in Massage oder Kink notwendig. \n  \nBeschreibung:Die von Lomi Lomi inspirierte sinnliche Massage und die Welt des Kink scheinen auf den ersten Blick voller Gegensätze zu sein. \nIm Kink geht es um das einvernehmliche Ausprobieren von intensiven Stimulationen\, Empfindungen und Gefühlen und das bewusste Erforschen von Hingabe\, ausgeliefert sein und Macht. Es beinhaltet feurige Aspekte der Lust und Erotik\, kann aber auch meditativ\, entspannend oder spielerisch sein. „Sich fallenlassen zu können ohne fallengelassen zu werden…“ sagte uns ein Teilnehmer nach unserem Workshop. \nIn der traditionellen Hawaiianischen Lomi Lomi Massage fließen breite\, großflächige Streichungen von Kopf bis Fuß gleichzeitig über und unter den ganzen Körper. Als würde man von den wirbelnden Wellen des Ozeans und seinen stillen Tiefen umarmt. Sich einfach hingeben in liebevolle Hände\, in warme\, wohltuende Berührung. Sich geerdet und zutiefst berührt fühlen. \nKinky Flow entsteht dann\, wenn wir die Geborgenheit spendenden Lomi-Berührungsqualitäten mit unseren kreativen\, liebevollen und erotischen Elementen aus dem Kink verschmelzen. Eine eigene Praxis\, etwas ganz Neues! \nWir werden erforschen\, wie man allmählich Dominanz in die Massagepraxis einfließen lässt\, wie man Empathie und nonverbale Kommunikation entwickelt\, wie man Zustimmung aushandelt und einen sicheren Raum schafft. \nWir werden spielerisch Kink in eine Reihe von Möglichkeiten sanfter Dominanzpraktiken integrieren: z.B. das Spiel mit Scham\, mit der eigenen Lust sichtbar sein und überraschende Momente inszenieren. Aber auch ganz körperlich: leichte Schläge (Spanking)\, Haare ziehen\, Körperfixierung\, Verführung und Verweigerung. \nKinky Flow zelebriert die Verbindung aus sinnlicher Massage und Kink und ihr gemeinsames Grundprinzip: dem Körper mit Empathie und Respekt aus der Tiefe zuhören – um ihn zu unterstützen\, sich auf eine einzigartige innere Reise zu begeben\, andere Aspekte von sich selbst zu entdecken und vielleicht sogar neue Perspektiven zu finden. \nLust findet zwischen den Ohren statt!Daher wenden wir uns neben der Praxis ausführlich einem unserer Lieblingsthemen\, der Phantasie\, dem eigenen “Kopfkino” zu. Eine wertvolle Qualität\, für die es ein Bewusstsein braucht\, um sie anzuregen. \nJanas und Stefanos Ansatz ist spielerisch\, kreativ und intuitiv auf der Basis von Vertrauen und Zustimmung. Ihre reiche Erfahrung gibt Dir Impulse\, wie Du mit Freude und Neugierde ein JA zu Deiner Kraft und Verletzlichkeit\, Intimität und Hingabe finden kannst. \nDu wirst neue Prinzipien kennenlernen (statt einfach nur Techniken zu folgen). Du erfährst\, wie Deine innere Haltung Dich unterstützen kann\, wenn Du Handlung und Emotionen verknüpfst. Vor allem aber lernst Du\, Dir selbst zu vertrauen\, wenn Du führst und/oder Dich hingibst. Du wirst immer sicherer darin\, einen dynamischen Spannungsbogen für die Intensität einer Session aufzubauen\, Körpersprache zu lesen und Dich von dem lustvollen Verlangen der empfangenden Person leiten zu lassen. \nWährend dieser drei Tage verstehen sich Jana und Stefano als Reisebegleitung für Dich. Sie führen Dich liebevoll und fordern Dich heraus – auf dem Weg in Dein Abenteuer\, eine Begegnung mit Dir selbst. \nSpiel mit uns und entdecke Dich neu! Am Ende überraschen wir uns selbst. \nABLAUFTag 1: Grundlagen der Lomi Lomi Massage \nTag 2:  Grundlagen von Kink\, Konsens (Erkennen und Kommunizieren eigener Wünsche und Grenzen) + Spielmöglichkeiten \nTag 3: Vertiefung von Kinky Flow als Kinky Massage Ritual \nAn jedem Tag wirst Du die Möglichkeit haben\, jeweils eine Massage zu geben und zu bekommen. \nÜber die Leitung:Jana und Stefano begeistern seit vielen Jahren mit ihren Kinky Flow Workshops. Beide sind Körpertherapeuten und Massage-Ausbilder der Lomi-Ausbildung-Berlin. Jana ist außerdem Atemtherapeutin und Stefano ist Tänzer (Butoh). \nSowohl Jana als auch Stefano verfügen über umfangreiche BDSM- und Kink-Erfahrung. \nPreise & Tickets:Tickets sind über Eventfrog verfügbar. \nMitbringliste:Eine detaillierte Mitbringliste erhältst Du mit ausreichend Vorlauf. \nHinweise:Dies ist ein gemischtgeschlechtlicher Workshop. Alle Identitäten und Orientierungen sind willkommen. Ein Workshop für Einzelpersonen und Paar-Konstellationen (kein Paar-Workshop). \nKonsens ist die Basis für unser Miteinander: Wir ermutigen dazu\, mutig und vorsichtig zu sein\, eigene Bedürfnisse und Grenzen zu kommunizieren\, Selbst-Verantwortung zu übernehmen und die Grenzen anderer unbedingt zu respektieren.
URL:https://www.refugium-aschaffenburg.de/event/kinky-flow-massageritual/
CATEGORIES:BDSM,Lomi Lomi
ATTACH;FMTTYPE=image/jpeg:https://www.refugium-aschaffenburg.de/wp-content/uploads/2026/02/Kinky-Flow-Massage-Kurs-Aschaffenburg-2-scaled.jpg
END:VEVENT
END:VCALENDAR